BEGIN:VCALENDAR
VERSION:2.0
PRODID:-//KNW Training - ECPv6.15.20//NONSGML v1.0//EN
CALSCALE:GREGORIAN
METHOD:PUBLISH
X-WR-CALNAME:KNW Training
X-ORIGINAL-URL:https://knwtraining.co.uk
X-WR-CALDESC:Events for KNW Training
REFRESH-INTERVAL;VALUE=DURATION:PT1H
X-Robots-Tag:noindex
X-PUBLISHED-TTL:PT1H
BEGIN:VTIMEZONE
TZID:UTC
BEGIN:STANDARD
TZOFFSETFROM:+0000
TZOFFSETTO:+0000
TZNAME:UTC
DTSTART:20210101T000000
END:STANDARD
END:VTIMEZONE
BEGIN:VEVENT
DTSTART;TZID=UTC:20230118T093000
DTEND;TZID=UTC:20230120T163000
DTSTAMP:20260420T063728
CREATED:20221118T103659Z
LAST-MODIFIED:20260415T114717Z
UID:1220-1674034200-1674232200@knwtraining.co.uk
SUMMARY:Qualsafe Level 3 Award in First Aid at Work - 3 Day Course
DESCRIPTION:Awarding Organisation: Qualsafe\nCost per person: £237 (+ VAT) this includes the training as well as the workbook and e-certification. \nThis is a 3-day course\nDay 1 – 18th Jan\nDay 2 – 19th Jan\nDay 3 – 20th Jan \nTimes: 09.30 – 16.30 \nAll organisations must ensure by law that they have a sufficient number of employees who possess a first-aid qualification to fulfil their first-aid needs at all times. Employers must ensure that their provision is ‘adequate and appropriate in the circumstances. \nOver the duration of this 3-day course\, Learners will develop the skills and knowledge needed to deal with a range of first aid situations. The course covers topics such as: incident assessment\, managing unresponsive casualties\, heart attacks\, CPR and defibrillation\, fractures\, choking\, head and spinal injuries\, and anaphylaxis. \nMore Course Details > \nPlease complete the Registration Form below\, then purchase your Ticket for this course. Payment is via your Paypal Account or Debit/Credit Card
URL:https://knwtraining.co.uk/course/qualsafe-level-3-award-in-first-aid-at-work-3-day-course-2/
LOCATION:KNW Training\, Archway House\, Bedale\, North Yorkshire\, DL8 1AF\, United Kingdom
CATEGORIES:KNW Training - Open Courses
ATTACH;FMTTYPE=image/jpeg:https://knwtraining.co.uk/wp-content/uploads/2021/06/first-aid-850485_1920.jpg
END:VEVENT
BEGIN:VEVENT
DTSTART;TZID=UTC:20221130T093000
DTEND;TZID=UTC:20221202T163000
DTSTAMP:20260420T063728
CREATED:20221019T094358Z
LAST-MODIFIED:20260415T114731Z
UID:1151-1669800600-1669998600@knwtraining.co.uk
SUMMARY:Qualsafe Level 3 Award in First Aid at Work with Forestry (+F) - 3 Day Course
DESCRIPTION:Awarding Organisation: Qualsafe\nCost per person: £257 (+ VAT) this includes the training as well as the workbook and e-certification. \nThis is a 3-day course\nDay 1 – 30th Nov\nDay 2 – 6th Dec\nDay 3 – 13th Dec \nAll organisations must ensure by law that they have a sufficient number of employees who possess a first-aid qualification to fulfil their first-aid needs at all times. Employers must ensure that their provision is ‘adequate and appropriate in the circumstances. \nOver the duration of this 3-day course\, Learners will develop the skills and knowledge needed to deal with a range of first aid situations. The course covers topics such as: incident assessment\, managing unresponsive casualties\, heart attacks\, CPR and defibrillation\, fractures\, choking\, head and spinal injuries\, and anaphylaxis. \nThe additional Forestry First Aid element is a nationally recognised qualification that has been designed to provide Learners with the knowledge and skills needed to deal with emergency first aid situations in a forestry/agricultural context. \nMore Course Details > \nPlease complete the Registration Form below\, then purchase your Ticket for this course. Payment is via your Paypal Account or Debit/Credit Card
URL:https://knwtraining.co.uk/course/qualsafe-level-3-award-in-first-aid-at-work-with-forestry-f-3-day-course/
LOCATION:KNW Training\, Archway House\, Bedale\, North Yorkshire\, DL8 1AF\, United Kingdom
CATEGORIES:KNW Training - Open Courses
ATTACH;FMTTYPE=image/jpeg:https://knwtraining.co.uk/wp-content/uploads/2021/06/first-aid-850485_1920.jpg
END:VEVENT
BEGIN:VEVENT
DTSTART;TZID=UTC:20221130T093000
DTEND;TZID=UTC:20221201T163000
DTSTAMP:20260420T063728
CREATED:20220712T094830Z
LAST-MODIFIED:20260415T114740Z
UID:981-1669800600-1669912200@knwtraining.co.uk
SUMMARY:SMSTS Training Refresher (CITB) - Site Management Safety Training Scheme - 2 days
DESCRIPTION:Awarding Organisation: CITB\nCost per person: £299 (+ VAT) this includes the training\, workbooks\, and certification\nDate: 30th Nov & 1st Dec 2022\nLocation: KNW Bedale \n  \nSMSTS Training Refresher (CITB) – Site Management Safety Training Scheme – 2 days \nOverview:\nThe SMSTS Refresher course is a two-day renewal course. The course is needed to ensure your SMSTS qualification remains valid. The SMSTS course is more in-depth than the Site Supervisors course. It will also demonstrate how to meet the ever-increasing demand for evidence of sound health and safety management on site.\n\nCourse Content:\nSuccessful candidates will gain refreshed knowledge of the Health and Safety at Work Act\, CDM Regulations 2015\, and site set-up. As well as risk assessments/method statements\, working at height\, scaffolding\, and electricity. You will also go over excavations\, demolition\, and confined spaces. As well as being made aware of any recent changes in accepted working practices and behavioural safety. \nAssessment: \nYou will be assessed throughout the course. On the final day\, you must conduct a presentation in front of your group members. You will also complete a final examination. \n  \nCourse Content: \nThe course refreshes you in the following units: \n– Risk assessments.\n– Explanation and overviews of construction legislation.\n– An initiation to health and safety law and the duties\, responsibilities\, and sanctions surrounding it.\n– Awareness of human error.\n– Motivating staff.\n– Planning health and safety for projects.\n– Recognising the responsibility of the workforce.\n– Communicating effectively.\n– Managing contractors.\n– The procedure of an accident on site and the process following the accident.\n– Development of permit systems and safe systems of work.\n– Safe system of work production.\n– Awareness of an organisation’s responsibilities and duties.\n\nEntry Requirements:\nThis course is aimed at those who currently hold a valid Site Management Safety Training Scheme (SMSTS) certificate. The minimum requirement of entry is that the delegate can write and speak English well. \nPlease complete the Registration Form below\, then purchase your Ticket for this course. Payment is via your Paypal Account or Debit/Credit Card
URL:https://knwtraining.co.uk/course/smsts-training-refresher-citb-site-management-safety-training-scheme-2-days/
LOCATION:KNW Training\, Archway House\, Bedale\, North Yorkshire\, DL8 1AF\, United Kingdom
CATEGORIES:KNW Training - Open Courses
ATTACH;FMTTYPE=image/png:https://knwtraining.co.uk/wp-content/uploads/2022/07/CITB-COURSE.png
END:VEVENT
END:VCALENDAR